BEGIN:VCALENDAR
VERSION:2.0
PRODID:-//Main Street Mornington - ECPv6.11.2.1//NONSGML v1.0//EN
CALSCALE:GREGORIAN
METHOD:PUBLISH
X-ORIGINAL-URL:https://mainstreetmornington.com.au
X-WR-CALDESC:Events for Main Street Mornington
REFRESH-INTERVAL;VALUE=DURATION:PT1H
X-Robots-Tag:noindex
X-PUBLISHED-TTL:PT1H
BEGIN:VTIMEZONE
TZID:Australia/Melbourne
BEGIN:STANDARD
TZOFFSETFROM:+1100
TZOFFSETTO:+1000
TZNAME:AEST
DTSTART:20260404T160000
END:STANDARD
BEGIN:DAYLIGHT
TZOFFSETFROM:+1000
TZOFFSETTO:+1100
TZNAME:AEDT
DTSTART:20261003T160000
END:DAYLIGHT
END:VTIMEZONE
BEGIN:VEVENT
DTSTART;TZID=Australia/Melbourne:20260508T100000
DTEND;TZID=Australia/Melbourne:20260509T170000
DTSTAMP:20260423T184010
CREATED:20260423T040310Z
LAST-MODIFIED:20260423T040717Z
UID:10000064-1778234400-1778346000@mainstreetmornington.com.au
SUMMARY:Evergreen Clothing- Style & Sip May 8th - 9th.
DESCRIPTION:This Mothers Day Evergreen Clothing wants to celebrate the Mum’s! \nJoin us for two fabulous days of fashion\, fun\, and a little indulgence on Friday 8th May and Saturday 9th May. \nEnjoy complimentary coffee and wine while you browse\, plus exclusive styling sessions on Friday with Mel\, Stacey\, and Lucy to help you find the perfect look. There’ll be plenty of extras to make your visit special\, including goodie bags\, delicious treats\, and the chance to win exciting prizes with our Spin to Win. \nFor something a little different\, don’t miss our flash tattoos\, and be sure to check out our amazing sale rack for unbeatable finds. \nBring your friends\, treat yourself (or Mum!)\, and make a day of it—we can’t wait to see you there!
URL:https://mainstreetmornington.com.au/event/evergreen-clothing-style-sip/
LOCATION:Evergreen Clothing\, 65 Barkly Street\, Mornington\, VIC\, 3931\, Australia
ATTACH;FMTTYPE=image/png:https://mainstreetmornington.com.au/wp-content/uploads/2026/04/chamber-of-commerse.png
ORGANIZER;CN="Evergreen Clothing":MAILTO:hello@evergreenclothing.com.au
END:VEVENT
END:VCALENDAR