BEGIN:VCALENDAR
VERSION:2.0
PRODID:-//Main Street Mornington - ECPv6.11.2.1//NONSGML v1.0//EN
CALSCALE:GREGORIAN
METHOD:PUBLISH
X-WR-CALNAME:Main Street Mornington
X-ORIGINAL-URL:https://mainstreetmornington.com.au
X-WR-CALDESC:Events for Main Street Mornington
REFRESH-INTERVAL;VALUE=DURATION:PT1H
X-Robots-Tag:noindex
X-PUBLISHED-TTL:PT1H
BEGIN:VTIMEZONE
TZID:Australia/Melbourne
BEGIN:STANDARD
TZOFFSETFROM:+1100
TZOFFSETTO:+1000
TZNAME:AEST
DTSTART:20260404T160000
END:STANDARD
BEGIN:DAYLIGHT
TZOFFSETFROM:+1000
TZOFFSETTO:+1100
TZNAME:AEDT
DTSTART:20261003T160000
END:DAYLIGHT
END:VTIMEZONE
BEGIN:VEVENT
DTSTART;TZID=Australia/Melbourne:20260512T180000
DTEND;TZID=Australia/Melbourne:20260512T193000
DTSTAMP:20260425T020143
CREATED:20260424T010454Z
LAST-MODIFIED:20260424T011053Z
UID:10000065-1778608800-1778614200@mainstreetmornington.com.au
SUMMARY:Author Event: Kate Legge May 12th 6pm
DESCRIPTION:Join us for an evening of conversation with award-winning journalist and author Kate Legge. Kate has a new memoir Delicious out on Tuesday 31 March celebrating food and friendship from one of Australia’s most admired writers. \nEach ticket includes a glass of sparkling wine and selection of canapes inspired by the recipes in Kate’s book Delicious. A great gift idea for Mum this Mother’s Day\, or perhaps treat yourself and a friend to an evening of delightful conversation and delicious food. \nTICKETS $30  |  BOOKINGS ESSENTIAL \nFarrells Bookshop\n143 Main Street\, Corner Barkly Street\, Mornington Vic 3931 \n(03) 5975 5034
URL:https://mainstreetmornington.com.au/event/author-event-kate-legge-may-12th-6pm/
LOCATION:Farrells Bookshop\, 143 Main Street\, MORNINGTON\, VIC\, 3931\, Australia
ATTACH;FMTTYPE=image/png:https://mainstreetmornington.com.au/wp-content/uploads/2026/04/Website-event-thumbnail-800px-x-500px-3.png
END:VEVENT
END:VCALENDAR